BEGIN:VCALENDAR
VERSION:2.0
PRODID:icalendar-ruby
CALSCALE:GREGORIAN
METHOD:PUBLISH
BEGIN:VEVENT
DTSTAMP:20260423T105520Z
UID:132-457451@trilliumchurch.ca
DTSTART:20260923T170000Z
DTEND:20260923T174500Z
CLASS:PUBLIC
CREATED:20260422T214922
DESCRIPTION:
LAST-MODIFIED:20260422T214922
LOCATION:Trillium United Church
SUMMARY:CSC Wednesday Exercise Class
URL;VALUE=URI:https://www.trilliumchurch.ca/events/csc-wednesday-exercise-c
 lass--132/2026-09-23
ATTACH;FILENAME=CSC-Exercise-Wednesdays.png;FMTTYPE=image/png:https://dq5pw
 pg1q8ru0.cloudfront.net/2025/09/24/17/56/17/382d7b4a-2e37-4a12-85a6-28a30a
 985a36/CSC-Exercise-Wednesdays.png
END:VEVENT
END:VCALENDAR
